BEGIN:VCALENDAR
VERSION:2.0
PRODID:-//wp-events-plugin.com//6.5.2//EN
TZID:Europe/Berlin
X-WR-TIMEZONE:Europe/Berlin
BEGIN:VEVENT
UID:279@digitalhubindustry.de
DTSTART;TZID=Europe/Berlin:20251008T180000
DTEND;TZID=Europe/Berlin:20251008T210000
DTSTAMP:20250624T091249Z
URL:https://digitalhubindustry.de/en/veranstaltungen/bremen-startups-netwo
 rking-and-queens/
SUMMARY:Bremen Startups NetworKings and -Queens
DESCRIPTION:Co-founder pitches\, genuine exchange and a “give first” sp
 irit: networking event for startups\, investors and curious minds in Breme
 n.
ATTACH;FMTTYPE=image/jpeg:https://digitalhubindustry.de/wp-content/uploads
 /2025/06/dhi-networking-queens-oct-2025.webp
LOCATION:DIGITAL HUB INDUSTRY\, Konrad-Zuse-Straße 6a\, Bremen \, Bremen \
 , 28359\, Germany
GEO:53.101802;8.851336
X-APPLE-STRUCTURED-LOCATION;VALUE=URI;X-ADDRESS=Konrad-Zuse-Straße 6a\, Br
 emen \, Bremen \, 28359\, Germany;X-APPLE-RADIUS=100;X-TITLE=DIGITAL HUB I
 NDUSTRY:geo:53.101802,8.851336
END:VEVENT
BEGIN:VTIMEZONE
TZID:Europe/Berlin
X-LIC-LOCATION:Europe/Berlin
BEGIN:DAYLIGHT
DTSTART:20250330T030000
TZOFFSETFROM:+0100
TZOFFSETTO:+0200
TZNAME:CEST
END:DAYLIGHT
END:VTIMEZONE
END:VCALENDAR