BEGIN:VCALENDAR
VERSION:2.0
PRODID:-//wp-events-plugin.com//6.5.2//EN
TZID:Europe/Berlin
X-WR-TIMEZONE:Europe/Berlin
BEGIN:VEVENT
UID:249@digitalhubindustry.de
DTSTART;TZID=Europe/Berlin:20250521T140000
DTEND;TZID=Europe/Berlin:20250521T180000
DTSTAMP:20250430T113354Z
URL:https://digitalhubindustry.de/en/veranstaltungen/grand-horizon-ready-f
 or-the-industry-of-tomorrow/
SUMMARY:GRAND HORIZON - Ready for the industry of tomorrow
DESCRIPTION:Open house at the DIGITAL HUB INDUSTRY: experience innovations\
 , get to know start-ups and discover the future of industry.
ATTACH;FMTTYPE=image/jpeg:https://digitalhubindustry.de/wp-content/uploads
 /2025/04/grand-horizon-2025-title.webp
LOCATION:DIGITAL HUB INDUSTRY\, Konrad-Zuse-Straße 6a\, Bremen \, Bremen \
 , 28359\, Germany
GEO:53.101802;8.851336
X-APPLE-STRUCTURED-LOCATION;VALUE=URI;X-ADDRESS=Konrad-Zuse-Straße 6a\, Br
 emen \, Bremen \, 28359\, Germany;X-APPLE-RADIUS=100;X-TITLE=DIGITAL HUB I
 NDUSTRY:geo:53.101802,8.851336
END:VEVENT
BEGIN:VTIMEZONE
TZID:Europe/Berlin
X-LIC-LOCATION:Europe/Berlin
BEGIN:DAYLIGHT
DTSTART:20250330T030000
TZOFFSETFROM:+0100
TZOFFSETTO:+0200
TZNAME:CEST
END:DAYLIGHT
END:VTIMEZONE
END:VCALENDAR