BEGIN:VCALENDAR
VERSION:2.0
PRODID:-//wp-events-plugin.com//6.5.2//EN
TZID:Europe/Berlin
X-WR-TIMEZONE:Europe/Berlin
BEGIN:VEVENT
UID:50@digitalhubindustry.de
DTSTART;TZID=Europe/Berlin:20231013T163000
DTEND;TZID=Europe/Berlin:20231013T163000
DTSTAMP:20230913T113955Z
URL:https://digitalhubindustry.de/veranstaltungen/duales-studium-informati
 k/
SUMMARY:Duales Studium Informatik
DESCRIPTION:Wir wünschen den DSI*lern viel spaß in unseren Räumlichkeite
 n.
ATTACH;FMTTYPE=image/jpeg:https://digitalhubindustry.de/wp-content/uploads
 /2023/09/WebseiteDSI.png
LOCATION:DIGITAL HUB INDUSTRY\, Konrad-Zuse-Straße 6a\, Bremen \, Bremen \
 , 28359\, Deutschland
GEO:53.101802;8.851336
X-APPLE-STRUCTURED-LOCATION;VALUE=URI;X-ADDRESS=Konrad-Zuse-Straße 6a\, Br
 emen \, Bremen \, 28359\, Deutschland;X-APPLE-RADIUS=100;X-TITLE=DIGITAL H
 UB INDUSTRY:geo:53.101802,8.851336
END:VEVENT
BEGIN:VTIMEZONE
TZID:Europe/Berlin
X-LIC-LOCATION:Europe/Berlin
BEGIN:DAYLIGHT
DTSTART:20230326T030000
TZOFFSETFROM:+0100
TZOFFSETTO:+0200
TZNAME:CEST
END:DAYLIGHT
END:VTIMEZONE
END:VCALENDAR