BEGIN:VCALENDAR
VERSION:2.0
PRODID:-//wp-events-plugin.com//6.5.2//EN
TZID:Europe/Berlin
X-WR-TIMEZONE:Europe/Berlin
BEGIN:VEVENT
UID:214@digitalhubindustry.de
DTSTART;TZID=Europe/Berlin:20250128T183000
DTEND;TZID=Europe/Berlin:20250128T203000
DTSTAMP:20250113T172222Z
URL:https://digitalhubindustry.de/veranstaltungen/frauen-it-chatgpt/
SUMMARY:Frauen\, IT & ChatGPT
DESCRIPTION:Inspiration für Frauen in der IT: Mini-Workshop zu KI und Auto
 matisierung mit Anna Cordes. Einblicke in Chancen und Tools für die digit
 ale Transformation.
ATTACH;FMTTYPE=image/jpeg:https://digitalhubindustry.de/wp-content/uploads
 /2025/01/women-it-chatgpt-2025-title.webp
LOCATION:DIGITAL HUB INDUSTRY\, Konrad-Zuse-Straße 6a\, Bremen \, Bremen \
 , 28359\, Deutschland
GEO:53.101802;8.851336
X-APPLE-STRUCTURED-LOCATION;VALUE=URI;X-ADDRESS=Konrad-Zuse-Straße 6a\, Br
 emen \, Bremen \, 28359\, Deutschland;X-APPLE-RADIUS=100;X-TITLE=DIGITAL H
 UB INDUSTRY:geo:53.101802,8.851336
END:VEVENT
BEGIN:VTIMEZONE
TZID:Europe/Berlin
X-LIC-LOCATION:Europe/Berlin
BEGIN:STANDARD
DTSTART:20241027T020000
TZOFFSETFROM:+0200
TZOFFSETTO:+0100
TZNAME:CET
END:STANDARD
END:VTIMEZONE
END:VCALENDAR