BEGIN:VCALENDAR
VERSION:2.0
PRODID:-//wp-events-plugin.com//6.5.2//EN
TZID:Europe/Berlin
X-WR-TIMEZONE:Europe/Berlin
BEGIN:VEVENT
UID:99@digitalhubindustry.de
DTSTART;TZID=Europe/Berlin;VALUE=DATE:20241115
DTEND;TZID=Europe/Berlin;VALUE=DATE:20241118
DTSTAMP:20240722T151539Z
URL:https://digitalhubindustry.de/veranstaltungen/startup-camp/
SUMMARY:Startup Startcamp SPACE
DESCRIPTION:Von der Idee zum Start-up in 54 Stunden! Das Startup Startcamp 
 mit Schwerpunkt Raumfahrt bringt zusammen\, was zusammengehört: Bremer Ra
 umfahrt-Experten und die dynamische Startup- und Tech-Community.
ATTACH;FMTTYPE=image/jpeg:https://digitalhubindustry.de/wp-content/uploads
 /2024/07/startup-startcamp-space-titel.webp
LOCATION:DIGITAL HUB INDUSTRY\, Konrad-Zuse-Straße 6a\, Bremen \, Bremen \
 , 28359\, Deutschland
GEO:53.101802;8.851336
X-APPLE-STRUCTURED-LOCATION;VALUE=URI;X-ADDRESS=Konrad-Zuse-Straße 6a\, Br
 emen \, Bremen \, 28359\, Deutschland;X-APPLE-RADIUS=100;X-TITLE=DIGITAL H
 UB INDUSTRY:geo:53.101802,8.851336
END:VEVENT
BEGIN:VTIMEZONE
TZID:Europe/Berlin
X-LIC-LOCATION:Europe/Berlin
BEGIN:STANDARD
DTSTART:20241027T020000
TZOFFSETFROM:+0200
TZOFFSETTO:+0100
TZNAME:CET
END:STANDARD
END:VTIMEZONE
END:VCALENDAR